BEGIN:VCALENDAR
VERSION:2.0
PRODID:-//Netpr.pl//PL
METHOD:PUBLISH
CALSCALE:GREGORIAN
X-WR-CALNAME:Drużyna Energii
BEGIN:VEVENT
DTSTAMP:20260421T123102Z
DTSTART:20260430T214500Z
DTEND:20260430T224500Z
SUMMARY:Zakończenie rejestracji do programu „Drużyna Energii”
LOCATION:
DESCRIPTION:Ostateczny termin zgłoszeń dla szkół podstawowych (klasy 4–8). 
 Aby \nwziąć udział\, należy zarejestrować placówkę oraz przesłać materiał 
 \nprezentujący sportowego ducha szkoły. Na uczestników czekają nagrody\, \
 nw tym stroje sportowe\, dwudniowa bezpłatna wycieczka i wsparcie dla \nna
 jlepszych placówek.
UID:23700netpr@netpr.pl
LAST-MODIFIED:20260421T101310Z
SEQUENCE:1
CLASS:PUBLIC
STATUS:CONFIRMED
TRANSP:OPAQUE
BEGIN:VALARM
ACTION:DISPLAY
TRIGGER;RELATED=START:-PT15M
DESCRIPTION:Zakończenie rejestracji do programu „Drużyna Energii”
END:VALARM
END:VEVENT
END:VCALENDAR
